BEGIN:VCALENDAR
PRODID:-//eluceo/ical//2.0/EN
VERSION:2.0
CALSCALE:GREGORIAN
BEGIN:VEVENT
UID:f089c7e2f59e3e3ffb9ae823cb93ea77
DTSTAMP:20260421T055859Z
SUMMARY:[Männer LK3] CVJM Enzweihingen 1b - CVJM SG Mössingen/Belsen 
URL:https://www.eichenkreuzliga.de/handball/game/id/19654
DTSTART:20251129T150000
DTEND:20251129T160000
LOCATION:Schulsporthalle\, 71665 Enzweihingen
END:VEVENT
END:VCALENDAR
