BEGIN:VCALENDAR
PRODID:-//eluceo/ical//2.0/EN
VERSION:2.0
CALSCALE:GREGORIAN
BEGIN:VEVENT
UID:733579f70c019e8096034364c4636924
DTSTAMP:20260421T060355Z
SUMMARY:[Männer LK3] SG Grunbach Winterbach  - CVJM SG Mössingen/Belsen 
URL:https://www.eichenkreuzliga.de/handball/game/id/19659
DTSTART:20260111T160000
DTEND:20260111T170000
LOCATION:Jahnhalle\, 73630 Grunbach
END:VEVENT
END:VCALENDAR
