BEGIN:VCALENDAR
PRODID:-//eluceo/ical//2.0/EN
VERSION:2.0
CALSCALE:GREGORIAN
BEGIN:VEVENT
UID:6c5f2e582847e774c1468754d1545ebb
DTSTAMP:20260422T203757Z
SUMMARY:[Männer LK 2 2014/15] CVJM Möglingen 1b - EK Bernhausen / Bonland
 en
URL:https://www.eichenkreuzliga.de/handball/game/id/1985
DTSTART:20150321T174500
DTEND:20150321T184500
LOCATION:Stadionhalle\, 71696 Möglingen
END:VEVENT
END:VCALENDAR
