BEGIN:VCALENDAR
PRODID:-//eluceo/ical//2.0/EN
VERSION:2.0
CALSCALE:GREGORIAN
BEGIN:VEVENT
UID:ac63e4e371e65ed23a66ffdd508f69b9
DTSTAMP:20260422T100918Z
SUMMARY:[männliche B-Jugend LK 1 2014/15] SG Kusterdingen/Kirchentellinsfu
 rt  - EK Köngen 
URL:https://www.eichenkreuzliga.de/handball/game/id/2107
DTSTART:20141109T130000
DTEND:20141109T140000
LOCATION:Sporthalle\, 72138 Kirchentellinsfurt
END:VEVENT
END:VCALENDAR
