BEGIN:VCALENDAR
PRODID:-//eluceo/ical//2.0/EN
VERSION:2.0
CALSCALE:GREGORIAN
BEGIN:VEVENT
UID:4a813239d34fcd8fbd06f1246be69577
DTSTAMP:20260422T100922Z
SUMMARY:[männliche B-Jugend LK 1 2014/15] EK Köngen  - CVJM Möglingen 1
URL:https://www.eichenkreuzliga.de/handball/game/id/2113
DTSTART:20150117T160000
DTEND:20150117T170000
LOCATION:Burgschulhalle\, 73257 Köngen
END:VEVENT
END:VCALENDAR
