BEGIN:VCALENDAR
PRODID:-//eluceo/ical//2.0/EN
VERSION:2.0
CALSCALE:GREGORIAN
BEGIN:VEVENT
UID:c942218a3fcb33b0df66d3981a87b1d3
DTSTAMP:20260422T125423Z
SUMMARY:[männliche B-Jugend LK 1 2014/15] CVJM Möglingen 2 - SG Kusterdin
 gen/Kirchentellinsfurt 
URL:https://www.eichenkreuzliga.de/handball/game/id/2116
DTSTART:20141122T164500
DTEND:20141122T174500
LOCATION:Stadionhalle\, 71696 Möglingen
END:VEVENT
END:VCALENDAR
