BEGIN:VCALENDAR
PRODID:-//eluceo/ical//2.0/EN
VERSION:2.0
CALSCALE:GREGORIAN
BEGIN:VEVENT
UID:1d8d52ac04370dcbb8de637a9875dbea
DTSTAMP:20260422T142918Z
SUMMARY:[männliche B-Jugend LK 1 2014/15] CVJM Möglingen 1 - CVJM HB Duß
 lingen-Gomaringen 
URL:https://www.eichenkreuzliga.de/handball/game/id/2130
DTSTART:20150228T153000
DTEND:20150228T163000
LOCATION:Stadionhalle\, 71696 Möglingen
END:VEVENT
END:VCALENDAR
