BEGIN:VCALENDAR
PRODID:-//eluceo/ical//2.0/EN
VERSION:2.0
CALSCALE:GREGORIAN
BEGIN:VEVENT
UID:ff6a823a006c4501968339bf31ed3ae2
DTSTAMP:20260422T125419Z
SUMMARY:[männliche B-Jugend LK 1 2014/15] CVJM  Walddorfhäslach  - CVJM M
 öglingen 1
URL:https://www.eichenkreuzliga.de/handball/game/id/2131
DTSTART:20150125T163000
DTEND:20150125T173000
LOCATION:Ballspielhalle\, 72141 Walddorfhäslach
END:VEVENT
END:VCALENDAR
