BEGIN:VCALENDAR
PRODID:-//eluceo/ical//2.0/EN
VERSION:2.0
CALSCALE:GREGORIAN
BEGIN:VEVENT
UID:cc6dfdc09e07654fb264259557fbc0c1
DTSTAMP:20260420T194352Z
SUMMARY:[männliche B-Jugend LK 1 2014/15] CVJM  Walddorfhäslach  - CVJM M
 öglingen 2
URL:https://www.eichenkreuzliga.de/handball/game/id/2133
DTSTART:20150131T160000
DTEND:20150131T170000
LOCATION:Ballspielhalle\, 72141 Walddorfhäslach
END:VEVENT
END:VCALENDAR
