BEGIN:VCALENDAR
PRODID:-//eluceo/ical//2.0/EN
VERSION:2.0
CALSCALE:GREGORIAN
BEGIN:VEVENT
UID:0ab885ea6b6dfd5060d9c822af3cce6d
DTSTAMP:20260422T221651Z
SUMMARY:[Männer LK 3 2014/15] CVJM Hülben  - SG Bonlanden Bernhausen 1c
URL:https://www.eichenkreuzliga.de/handball/game/id/2197
DTSTART:20150307T180000
DTEND:20150307T190000
LOCATION:Falkensteinhalle\, 72582 Grabenstetten
END:VEVENT
END:VCALENDAR
