BEGIN:VCALENDAR
PRODID:-//eluceo/ical//2.0/EN
VERSION:2.0
CALSCALE:GREGORIAN
BEGIN:VEVENT
UID:ef548c8472b2e8fa4733616eb9b8d704
DTSTAMP:20260422T191541Z
SUMMARY:[Männer LK 3 2014/15] CVJM  Walddorfhäslach 2 - CVJM HB Dußlinge
 n-Gomaringen 1b
URL:https://www.eichenkreuzliga.de/handball/game/id/2225
DTSTART:20150125T180000
DTEND:20150125T190000
LOCATION:Ballspielhalle\, 72141 Walddorfhäslach
END:VEVENT
END:VCALENDAR
