BEGIN:VCALENDAR
PRODID:-//eluceo/ical//2.0/EN
VERSION:2.0
CALSCALE:GREGORIAN
BEGIN:VEVENT
UID:456376ecf9b5ef995ba13024885dfc58
DTSTAMP:20260423T012935Z
SUMMARY:[Männer LK 3 2014/15] SG Grunbach Winterbach  - CVJM SG Mössingen
 /Belsen 1b
URL:https://www.eichenkreuzliga.de/handball/game/id/2232
DTSTART:20150110T183000
DTEND:20150110T193000
LOCATION:Jahnhalle\, 73630 Grunbach
END:VEVENT
END:VCALENDAR
