BEGIN:VCALENDAR
PRODID:-//eluceo/ical//2.0/EN
VERSION:2.0
CALSCALE:GREGORIAN
BEGIN:VEVENT
UID:bf2878842cce9ca1682963bb9f0d944f
DTSTAMP:20260422T191516Z
SUMMARY:[Männer LK 3 2014/15] CVJM  Walddorfhäslach 2 - CVJM SG Mössinge
 n/Belsen 1b
URL:https://www.eichenkreuzliga.de/handball/game/id/2234
DTSTART:20141213T180000
DTEND:20141213T190000
LOCATION:Ballspielhalle\, 72141 Walddorfhäslach
END:VEVENT
END:VCALENDAR
