BEGIN:VCALENDAR
PRODID:-//eluceo/ical//2.0/EN
VERSION:2.0
CALSCALE:GREGORIAN
BEGIN:VEVENT
UID:bf631517d7fb5a7a7dec6b16f7d32900
DTSTAMP:20260422T191542Z
SUMMARY:[männliche D-Jugend Platzierungspiele 2014/15] EK Höfingen  - CVJ
 M Untertürkheim 
URL:https://www.eichenkreuzliga.de/handball/game/id/2587
DTSTART:20150314T144500
DTEND:20150314T154500
LOCATION:Strohgäuhalle\, 71229 Höfingen
END:VEVENT
END:VCALENDAR
