BEGIN:VCALENDAR
PRODID:-//eluceo/ical//2.0/EN
VERSION:2.0
CALSCALE:GREGORIAN
BEGIN:VEVENT
UID:ab2ab09ff35ac1277f33d1e982f49d55
DTSTAMP:20260423T210727Z
SUMMARY:[Herren LK1] EC Reutlingen  - CSV Stuttgart 
URL:https://www.eichenkreuzliga.de/fussball/game/id/8409
DTSTART:20181013T150000
DTEND:20181013T160000
LOCATION:\,  
END:VEVENT
END:VCALENDAR
