BEGIN:VCALENDAR
PRODID:-//eluceo/ical//2.0/EN
VERSION:2.0
CALSCALE:GREGORIAN
BEGIN:VEVENT
UID:1088d35f5e343fd783df505851af3d1f
DTSTAMP:20260423T205738Z
SUMMARY:[Herren LK1] CVJM Holzgerlingen  - EJ Malmsheim 
URL:https://www.eichenkreuzliga.de/fussball/game/id/8411
DTSTART:20181014T170000
DTEND:20181014T180000
LOCATION:\,  
END:VEVENT
END:VCALENDAR
