BEGIN:VCALENDAR
PRODID:-//eluceo/ical//2.0/EN
VERSION:2.0
CALSCALE:GREGORIAN
BEGIN:VEVENT
UID:262ebc036be5a24ee81746cd46c62ab3
DTSTAMP:20260423T221516Z
SUMMARY:[Herren LK1] CVJM Flacht  - CSK Weinstadt 
URL:https://www.eichenkreuzliga.de/fussball/game/id/8412
DTSTART:20181014T160000
DTEND:20181014T170000
LOCATION:\,  
END:VEVENT
END:VCALENDAR
