BEGIN:VCALENDAR
PRODID:-//eluceo/ical//2.0/EN
VERSION:2.0
CALSCALE:GREGORIAN
BEGIN:VEVENT
UID:0f4ca0f0f70af50feec5c6ba7274ec39
DTSTAMP:20260422T071037Z
SUMMARY:[weibliche D-Jugend Runde] EK Bernhausen  - EJW Münchingen 
URL:https://www.eichenkreuzliga.de/handball/game/id/9827
DTSTART:20200125T151500
DTEND:20200125T161500
LOCATION:Elisabeth-Selbert-Gymnasium Halle\, 70794 Bernhausen
END:VEVENT
END:VCALENDAR
