BEGIN:VCALENDAR
PRODID:-//eluceo/ical//2.0/EN
VERSION:2.0
CALSCALE:GREGORIAN
BEGIN:VEVENT
UID:becbccd76b785fb26ab3bbd42e95a582
DTSTAMP:20260422T055212Z
SUMMARY:[weibliche D-Jugend Runde] EJW Münchingen  - CVJM SG Mössingen/Be
 lsen 
URL:https://www.eichenkreuzliga.de/handball/game/id/9829
DTSTART:20200126T130000
DTEND:20200126T140000
LOCATION:Sporthalle Münchingen\, 70825 Korntal-Münchingen
END:VEVENT
END:VCALENDAR
