BEGIN:VCALENDAR
PRODID:-//eluceo/ical//2.0/EN
VERSION:2.0
CALSCALE:GREGORIAN
BEGIN:VEVENT
UID:3309e08ea5b8ab8e554b80f6b3b7aa6b
DTSTAMP:20260422T071020Z
SUMMARY:[weibliche D-Jugend Runde] EK Bernhausen  - CVJM SG Mössingen/Bels
 en 
URL:https://www.eichenkreuzliga.de/handball/game/id/9848
DTSTART:20200321T134500
DTEND:20200321T144500
LOCATION:Hönisch Sporthalle\, 72144 Dusslingen
END:VEVENT
END:VCALENDAR
