BEGIN:VCALENDAR
PRODID:-//eluceo/ical//2.0/EN
VERSION:2.0
CALSCALE:GREGORIAN
BEGIN:VEVENT
UID:e4a98a345dac94aec120e68457e300b9
DTSTAMP:20260422T113427Z
SUMMARY:[weibliche A-Jugend Finalspiele] CVJM Hülben  - CVJM HB Dußlingen
 -Gomaringen 
URL:https://www.eichenkreuzliga.de/handball/game/id/9894
DTSTART:20200321T144500
DTEND:20200321T154500
LOCATION:Hönisch Sporthalle\, 72144 Dusslingen
END:VEVENT
END:VCALENDAR
