BEGIN:VCALENDAR
PRODID:-//eluceo/ical//2.0/EN
VERSION:2.0
CALSCALE:GREGORIAN
BEGIN:VEVENT
UID:efa7b715eab4fc69ec53209ba224c4e1
DTSTAMP:20260422T122322Z
SUMMARY:[weibliche A-Jugend Finalspiele] CVJM Möglingen  - CVJM  Walddorfh
 äslach 
URL:https://www.eichenkreuzliga.de/handball/game/id/9895
DTSTART:20200321T161500
DTEND:20200321T171500
LOCATION:Hönisch Sporthalle\, 72144 Dusslingen
END:VEVENT
END:VCALENDAR
