BEGIN:VCALENDAR
PRODID:-//eluceo/ical//2.0/EN
VERSION:2.0
CALSCALE:GREGORIAN
BEGIN:VEVENT
UID:769a149a985988ef9b93c2d734eb7492
DTSTAMP:20260425T222230Z
SUMMARY:[Männer LK 2 2013/14] CVJM  Walddorfhäslach  - EJW Münchingen 
URL:https://www.eichenkreuzliga.de/handball/game/id/125
DTSTART:20140118T193000
DTEND:20140118T203000
LOCATION:Ballspielhalle\, 72141 Walddorfhäslach
END:VEVENT
BEGIN:VEVENT
UID:377af27ff95f707147cff61ef5ed9df8
DTSTAMP:20260425T222230Z
SUMMARY:[männliche A-Jugend Runde 2013/14] CVJM  Walddorfhäslach  - SG M
 össingen/Belsen 
URL:https://www.eichenkreuzliga.de/handball/game/id/178
DTSTART:20140118T174500
DTEND:20140118T184500
LOCATION:Ballspielhalle\, 72141 Walddorfhäslach
END:VEVENT
BEGIN:VEVENT
UID:cc41ac84c05ae4f08ea142e25db7b914
DTSTAMP:20260425T222230Z
SUMMARY:[männliche C-Jugend Vorrunde 2013/14] CVJM  Walddorfhäslach  - EK
  Höfingen C2
URL:https://www.eichenkreuzliga.de/handball/game/id/270
DTSTART:20140118T161500
DTEND:20140118T171500
LOCATION:Ballspielhalle\, 72141 Walddorfhäslach
END:VEVENT
BEGIN:VEVENT
UID:1faa37a43366d5be268ede87008fc3c7
DTSTAMP:20260425T222230Z
SUMMARY:[weibliche D-Jugend Runde 2013/14] CVJM  Walddorfhäslach  - EK Ber
 nhausen 
URL:https://www.eichenkreuzliga.de/handball/game/id/395
DTSTART:20140118T130000
DTEND:20140118T140000
LOCATION:Ballspielhalle\, 72141 Walddorfhäslach
END:VEVENT
BEGIN:VEVENT
UID:ea75f77cdba4619c4a763917e6355ffc
DTSTAMP:20260425T222230Z
SUMMARY:[weibliche D-Jugend Runde 2013/14] CVJM Dußlingen  - CVJM Mögling
 en 
URL:https://www.eichenkreuzliga.de/handball/game/id/396
DTSTART:20140118T134000
DTEND:20140118T144000
LOCATION:Ballspielhalle\, 72141 Walddorfhäslach
END:VEVENT
BEGIN:VEVENT
UID:bd436cf81191f8f902ed99b2d2058041
DTSTAMP:20260425T222230Z
SUMMARY:[ ]   -  
URL:https://www.eichenkreuzliga.de/handball/game/id/397
DTSTART:20140118T141500
DTEND:20140118T151500
LOCATION:Ballspielhalle\, 72141 Walddorfhäslach
END:VEVENT
BEGIN:VEVENT
UID:7c2a2a341a022ea34ccbe3d29f4dce27
DTSTAMP:20260425T222230Z
SUMMARY:[weibliche D-Jugend Runde 2013/14] CVJM Dußlingen  - EK Bernhausen
  
URL:https://www.eichenkreuzliga.de/handball/game/id/398
DTSTART:20140118T143000
DTEND:20140118T153000
LOCATION:Ballspielhalle\, 72141 Walddorfhäslach
END:VEVENT
BEGIN:VEVENT
UID:4d1d0a06dde4aa2720132d1ad78ad7fd
DTSTAMP:20260425T222230Z
SUMMARY:[weibliche D-Jugend Runde 2013/14] CVJM  Walddorfhäslach  - CVJM M
 öglingen 
URL:https://www.eichenkreuzliga.de/handball/game/id/399
DTSTART:20140118T151000
DTEND:20140118T161000
LOCATION:Ballspielhalle\, 72141 Walddorfhäslach
END:VEVENT
END:VCALENDAR
