BEGIN:VCALENDAR
PRODID:-//eluceo/ical//2.0/EN
VERSION:2.0
CALSCALE:GREGORIAN
BEGIN:VEVENT
UID:82d5ee70848783fd68ad5e28a5c1b595
DTSTAMP:20260422T041758Z
SUMMARY:[männliche A-Jugend Runde 2013/14] SG Mössingen/Belsen  - EK Kön
 gen 
URL:https://www.eichenkreuzliga.de/handball/game/id/153
DTSTART:20140215T170000
DTEND:20140215T180000
LOCATION:Jahnhalle 2\, 72116 Mössingen
END:VEVENT
BEGIN:VEVENT
UID:5ef00dfd3fc279258d29a462d9dc2807
DTSTAMP:20260422T041758Z
SUMMARY:[männliche C-Jugend Vorrunde 2013/14] SG Mössingen/Belsen  - EK H
 öfingen C2
URL:https://www.eichenkreuzliga.de/handball/game/id/263
DTSTART:20140215T130000
DTEND:20140215T140000
LOCATION:Jahnhalle 2\, 72116 Mössingen
END:VEVENT
BEGIN:VEVENT
UID:221db3f3f6a7be01cb4e78d31c116631
DTSTAMP:20260422T041758Z
SUMMARY:[weibliche B-Jugend Runde 2013/14] CVJM SG Mössingen/Belsen  - CVJ
 M Wildberg a. K.
URL:https://www.eichenkreuzliga.de/handball/game/id/474
DTSTART:20140215T141500
DTEND:20140215T151500
LOCATION:Jahnhalle 2\, 72116 Mössingen
END:VEVENT
BEGIN:VEVENT
UID:9f1e22962c30c7c06cec26506cfe1c2a
DTSTAMP:20260422T041758Z
SUMMARY:[männliche B-Jugend Runde 2013/14] SG Mössingen/Belsen  - CVJM Wi
 ldberg 
URL:https://www.eichenkreuzliga.de/handball/game/id/548
DTSTART:20140215T153000
DTEND:20140215T163000
LOCATION:Jahnhalle 2\, 72116 Mössingen
END:VEVENT
BEGIN:VEVENT
UID:2442b7db4d3fcb60c1374676f11c3f86
DTSTAMP:20260422T041758Z
SUMMARY:[Männer LK 4 2013/14] CVJM SG Mössingen/Belsen 1c - EK Köngen 1c
URL:https://www.eichenkreuzliga.de/handball/game/id/574
DTSTART:20140215T183000
DTEND:20140215T193000
LOCATION:Jahnhalle 2\, 72116 Mössingen
END:VEVENT
END:VCALENDAR
