BEGIN:VCALENDAR
PRODID:-//eluceo/ical//2.0/EN
VERSION:2.0
CALSCALE:GREGORIAN
BEGIN:VEVENT
UID:09f1fa7189ed1236e6cf0f2e0676c061
DTSTAMP:20260422T140213Z
SUMMARY:[Frauen Landesliga] CVJM HB Dußlingen-Gomaringen 1 - HSG Schönbuc
 h 
URL:https://www.eichenkreuzliga.de/handball/game/id/9854
DTSTART:20191012T170000
DTEND:20191012T180000
LOCATION:Hönisch Sporthalle\, 72144 Dusslingen
END:VEVENT
BEGIN:VEVENT
UID:176e4d2239a2e0c55c06650d10d9e73a
DTSTAMP:20260422T140213Z
SUMMARY:[männliche E-Jugend Runde] CVJM HB Dußlingen-Gomaringen 1 - CVJM 
 Kirchentellinsfurt 
URL:https://www.eichenkreuzliga.de/handball/game/id/9962
DTSTART:20191012T123000
DTEND:20191012T133000
LOCATION:Hönisch Sporthalle\, 72144 Dusslingen
END:VEVENT
BEGIN:VEVENT
UID:248226677904100fd462a35b770aef7b
DTSTAMP:20260422T140213Z
SUMMARY:[männliche E-Jugend Runde] CVJM HB Dußlingen-Gomaringen 2 A.K. - 
 CVJM Kirchentellinsfurt 
URL:https://www.eichenkreuzliga.de/handball/game/id/9963
DTSTART:20191012T143000
DTEND:20191012T153000
LOCATION:Hönisch Sporthalle\, 72144 Dusslingen
END:VEVENT
BEGIN:VEVENT
UID:bf2ec3281df01bf8d47e98c5d5e28755
DTSTAMP:20260422T140213Z
SUMMARY:[männliche E-Jugend Runde] CVJM HB Dußlingen-Gomaringen 2 A.K. - 
 CVJM Untertürkheim 
URL:https://www.eichenkreuzliga.de/handball/game/id/9964
DTSTART:20191012T130500
DTEND:20191012T140500
LOCATION:Hönisch Sporthalle\, 72144 Dusslingen
END:VEVENT
BEGIN:VEVENT
UID:d9d2f53d0e460aa47affb7c2f371878e
DTSTAMP:20260422T140213Z
SUMMARY:[männliche E-Jugend Runde] CVJM HB Dußlingen-Gomaringen 1 - CVJM 
 Untertürkheim 
URL:https://www.eichenkreuzliga.de/handball/game/id/9965
DTSTART:20191012T135500
DTEND:20191012T145500
LOCATION:Hönisch Sporthalle\, 72144 Dusslingen
END:VEVENT
BEGIN:VEVENT
UID:c3b76416ff9ec93b310562471b3a37c5
DTSTAMP:20260422T140213Z
SUMMARY:[Männer Landesliga] CVJM HB Dußlingen-Gomaringen  - CVJM SG Möss
 ingen/Belsen 
URL:https://www.eichenkreuzliga.de/handball/game/id/10511
DTSTART:20191012T200000
DTEND:20191012T210000
LOCATION:Hönisch Sporthalle\, 72144 Dusslingen
END:VEVENT
BEGIN:VEVENT
UID:1b3bb98b3c8ceff815128e75eb1060ee
DTSTAMP:20260422T140213Z
SUMMARY:[weibliche B-Jugend Runde] CVJM HB Dußlingen-Gomaringen  - EK Bern
 hausen 
URL:https://www.eichenkreuzliga.de/handball/game/id/10668
DTSTART:20191012T153000
DTEND:20191012T163000
LOCATION:Hönisch Sporthalle\, 72144 Dusslingen
END:VEVENT
BEGIN:VEVENT
UID:34da37280f3ececb9e009d70cf12f9c4
DTSTAMP:20260422T140213Z
SUMMARY:[weibliche C-Jugend Runde] CVJM HB Dußlingen-Gomaringen 1 - CVJM S
 G Mössingen/Belsen 
URL:https://www.eichenkreuzliga.de/handball/game/id/10826
DTSTART:20191012T110000
DTEND:20191012T120000
LOCATION:Hönisch Sporthalle\, 72144 Dusslingen
END:VEVENT
BEGIN:VEVENT
UID:757c3a34ef1d80f39fc0b3f149a8f714
DTSTAMP:20260422T140213Z
SUMMARY:[Männer LK 4] CVJM HB Dußlingen-Gomaringen 2 - CVJM SG Mössingen
 /Belsen 1c
URL:https://www.eichenkreuzliga.de/handball/game/id/11015
DTSTART:20191012T183000
DTEND:20191012T193000
LOCATION:Hönisch Sporthalle\, 72144 Dusslingen
END:VEVENT
BEGIN:VEVENT
UID:69e3f7487779530602032b441a833b2f
DTSTAMP:20260422T140213Z
SUMMARY:[ ]   -  
URL:https://www.eichenkreuzliga.de/handball/game/id/11074
DTSTART:20191012T134000
DTEND:20191012T144000
LOCATION:Hönisch Sporthalle\, 72144 Dusslingen
END:VEVENT
END:VCALENDAR
