BEGIN:VCALENDAR
PRODID:-//eluceo/ical//2.0/EN
VERSION:2.0
CALSCALE:GREGORIAN
BEGIN:VEVENT
UID:7a65fa5d35cec636c9d09bc261402375
DTSTAMP:20260422T100535Z
SUMMARY:[ ]   -  
URL:https://www.eichenkreuzliga.de/handball/game/id/9666
DTSTART:20191116T180000
DTEND:20191116T190000
LOCATION:Hönisch Sporthalle\, 72144 Dusslingen
END:VEVENT
BEGIN:VEVENT
UID:0f89f112b1cfa83f16b3c9eaeb512d95
DTSTAMP:20260422T100535Z
SUMMARY:[Frauen Landesliga] CVJM HB Dußlingen-Gomaringen 1 - CVJM SG Möss
 ingen/Belsen 
URL:https://www.eichenkreuzliga.de/handball/game/id/9856
DTSTART:20191116T160000
DTEND:20191116T170000
LOCATION:Hönisch Sporthalle\, 72144 Dusslingen
END:VEVENT
BEGIN:VEVENT
UID:b2770ebabfb3e00b7b8eca3acc76b304
DTSTAMP:20260422T100535Z
SUMMARY:[Männer Landesliga] CVJM HB Dußlingen-Gomaringen  - EK Höfingen 
URL:https://www.eichenkreuzliga.de/handball/game/id/10515
DTSTART:20191116T194500
DTEND:20191116T204500
LOCATION:Hönisch Sporthalle\, 72144 Dusslingen
END:VEVENT
BEGIN:VEVENT
UID:5b2f28d90ba30c4a9e87a82f6f62b85d
DTSTAMP:20260422T100535Z
SUMMARY:[weibliche A-Jugend Runde] CVJM HB Dußlingen-Gomaringen  - CVJM  W
 alddorfhäslach 
URL:https://www.eichenkreuzliga.de/handball/game/id/10618
DTSTART:20191116T130000
DTEND:20191116T140000
LOCATION:Hönisch Sporthalle\, 72144 Dusslingen
END:VEVENT
BEGIN:VEVENT
UID:eecf8665bf5baf9079e55e9db49c01c2
DTSTAMP:20260422T100535Z
SUMMARY:[männliche A-Jugend Runde] CVJM HB Dußlingen-Gomaringen  - CVJM S
 G Mössingen/Belsen 
URL:https://www.eichenkreuzliga.de/handball/game/id/10751
DTSTART:20191116T143000
DTEND:20191116T153000
LOCATION:Hönisch Sporthalle\, 72144 Dusslingen
END:VEVENT
END:VCALENDAR
