BEGIN:VCALENDAR
PRODID:-//eluceo/ical//2.0/EN
VERSION:2.0
CALSCALE:GREGORIAN
BEGIN:VEVENT
UID:4005f189f1f1f659be3aa8d2c84350f7
DTSTAMP:20260422T092148Z
SUMMARY:[ ]   -  
URL:https://www.eichenkreuzliga.de/handball/game/id/9669
DTSTART:20200119T170000
DTEND:20200119T180000
LOCATION:Hönisch Sporthalle\, 72144 Dusslingen
END:VEVENT
BEGIN:VEVENT
UID:2bd7ef4bb3280c9811b22078b8fa285c
DTSTAMP:20260422T092148Z
SUMMARY:[männliche C-Jugend Runde] CVJM HB Dußlingen-Gomaringen 1 - EK Be
 rnhausen 
URL:https://www.eichenkreuzliga.de/handball/game/id/10419
DTSTART:20200119T150000
DTEND:20200119T160000
LOCATION:Hönisch Sporthalle\, 72144 Dusslingen
END:VEVENT
END:VCALENDAR
