BEGIN:VCALENDAR
PRODID:-//eluceo/ical//2.0/EN
VERSION:2.0
CALSCALE:GREGORIAN
BEGIN:VEVENT
UID:b690cef7054373c31da8ed7b1cc0dc6a
DTSTAMP:20260422T104049Z
SUMMARY:[ ]   -  
URL:https://www.eichenkreuzliga.de/handball/game/id/9670
DTSTART:20200202T144500
DTEND:20200202T154500
LOCATION:Hönisch Sporthalle\, 72144 Dusslingen
END:VEVENT
BEGIN:VEVENT
UID:63cf2fab056cf539467119ba4305d340
DTSTAMP:20260422T104049Z
SUMMARY:[männliche C-Jugend Runde] CVJM HB Dußlingen-Gomaringen 1 - EK K
 öngen 
URL:https://www.eichenkreuzliga.de/handball/game/id/10368
DTSTART:20200202T130000
DTEND:20200202T140000
LOCATION:Hönisch Sporthalle\, 72144 Dusslingen
END:VEVENT
BEGIN:VEVENT
UID:28266240af9d972fd7aeda40d3c3e4e5
DTSTAMP:20260422T104049Z
SUMMARY:[männliche B-Jugend Runde] CVJM HB Dußlingen-Gomaringen  - CVJM K
 usterdingen 
URL:https://www.eichenkreuzliga.de/handball/game/id/10892
DTSTART:20200202T163000
DTEND:20200202T173000
LOCATION:Hönisch Sporthalle\, 72144 Dusslingen
END:VEVENT
END:VCALENDAR
