BEGIN:VCALENDAR
PRODID:-//eluceo/ical//2.0/EN
VERSION:2.0
CALSCALE:GREGORIAN
BEGIN:VEVENT
UID:1115fc48172380e6a1aab20ea6cf3575
DTSTAMP:20260422T083723Z
SUMMARY:[männliche E-Jugend Runde] CVJM HB Dußlingen-Gomaringen 1 - CVJM 
  Walddorfhäslach 
URL:https://www.eichenkreuzliga.de/handball/game/id/9987
DTSTART:20191117T130000
DTEND:20191117T140000
LOCATION:Hönisch Sporthalle\, 72144 Dusslingen
END:VEVENT
BEGIN:VEVENT
UID:2b3f16cc5f771ba7657fafd2838d7dde
DTSTAMP:20260422T083723Z
SUMMARY:[männliche E-Jugend Runde] CVJM HB Dußlingen-Gomaringen 2 A.K. - 
 CVJM  Walddorfhäslach 
URL:https://www.eichenkreuzliga.de/handball/game/id/9988
DTSTART:20191117T144500
DTEND:20191117T154500
LOCATION:Hönisch Sporthalle\, 72144 Dusslingen
END:VEVENT
BEGIN:VEVENT
UID:3fbc893c8e0342c4d9ddd63f06d38a4a
DTSTAMP:20260422T083723Z
SUMMARY:[männliche E-Jugend Runde] CVJM HB Dußlingen-Gomaringen 2 A.K. - 
 CVJM SG Mössingen/Belsen 
URL:https://www.eichenkreuzliga.de/handball/game/id/9989
DTSTART:20191117T133000
DTEND:20191117T143000
LOCATION:Hönisch Sporthalle\, 72144 Dusslingen
END:VEVENT
BEGIN:VEVENT
UID:43f3e28d7ec86dc443e2c6d82b3a76ce
DTSTAMP:20260422T083723Z
SUMMARY:[männliche E-Jugend Runde] CVJM HB Dußlingen-Gomaringen 1 - CVJM 
 SG Mössingen/Belsen 
URL:https://www.eichenkreuzliga.de/handball/game/id/9990
DTSTART:20191117T141500
DTEND:20191117T151500
LOCATION:Hönisch Sporthalle\, 72144 Dusslingen
END:VEVENT
BEGIN:VEVENT
UID:8142920a76ae71d4f66c070934850a84
DTSTAMP:20260422T083723Z
SUMMARY:[ ]   -  
URL:https://www.eichenkreuzliga.de/handball/game/id/10237
DTSTART:20191117T140000
DTEND:20191117T150000
LOCATION:Hönisch Sporthalle\, 72144 Dusslingen
END:VEVENT
BEGIN:VEVENT
UID:818af4697dbf2662772b115270aecd30
DTSTAMP:20260422T083723Z
SUMMARY:[männliche C-Jugend Runde] CVJM HB Dußlingen-Gomaringen 1 - CVJM 
 Untertürkheim 
URL:https://www.eichenkreuzliga.de/handball/game/id/10361
DTSTART:20191117T153000
DTEND:20191117T163000
LOCATION:Hönisch Sporthalle\, 72144 Dusslingen
END:VEVENT
BEGIN:VEVENT
UID:9670f53b47d5d059aa61a1e18465dc51
DTSTAMP:20260422T083723Z
SUMMARY:[männliche B-Jugend Runde] CVJM HB Dußlingen-Gomaringen  - CVJM P
 lochingen 
URL:https://www.eichenkreuzliga.de/handball/game/id/10870
DTSTART:20191117T170000
DTEND:20191117T180000
LOCATION:Hönisch Sporthalle\, 72144 Dusslingen
END:VEVENT
BEGIN:VEVENT
UID:b609db5c50840c7112a1b1a75d441d51
DTSTAMP:20260422T083723Z
SUMMARY:[Männer LK 4] CVJM HB Dußlingen-Gomaringen 2 - SG Grunbach Winter
 bach 
URL:https://www.eichenkreuzliga.de/handball/game/id/11001
DTSTART:20191117T183000
DTEND:20191117T193000
LOCATION:Hönisch Sporthalle\, 72144 Dusslingen
END:VEVENT
END:VCALENDAR
