BEGIN:VCALENDAR
PRODID:-//eluceo/ical//2.0/EN
VERSION:2.0
CALSCALE:GREGORIAN
BEGIN:VEVENT
UID:a48d2d07529c8f63acb96b0b5d81aa4a
DTSTAMP:20260422T100927Z
SUMMARY:[ ]   -  
URL:https://www.eichenkreuzliga.de/handball/game/id/9681
DTSTART:20191123T200000
DTEND:20191123T210000
LOCATION:Stadionhalle\, 71696 Möglingen
END:VEVENT
BEGIN:VEVENT
UID:e40b4e9b42278c697e4d3ab0091e5184
DTSTAMP:20260422T100927Z
SUMMARY:[männliche D-Jugend Runde] CVJM Enzweihingen  - CVJM Plochingen 
URL:https://www.eichenkreuzliga.de/handball/game/id/10113
DTSTART:20191123T120000
DTEND:20191123T130000
LOCATION:Stadionhalle\, 71696 Möglingen
END:VEVENT
BEGIN:VEVENT
UID:c3f08f748d0e0855d6500afa23376a42
DTSTAMP:20260422T100927Z
SUMMARY:[männliche D-Jugend Runde] CVJM Möglingen  - CVJM Hagelloch 
URL:https://www.eichenkreuzliga.de/handball/game/id/10114
DTSTART:20191123T124000
DTEND:20191123T134000
LOCATION:Stadionhalle\, 71696 Möglingen
END:VEVENT
BEGIN:VEVENT
UID:3331954a6a6c8903767a65c9d4cf1a49
DTSTAMP:20260422T100927Z
SUMMARY:[männliche D-Jugend Runde] CVJM Möglingen  - CVJM Enzweihingen 
URL:https://www.eichenkreuzliga.de/handball/game/id/10115
DTSTART:20191123T142000
DTEND:20191123T152000
LOCATION:Stadionhalle\, 71696 Möglingen
END:VEVENT
BEGIN:VEVENT
UID:0ccefd6b9b8bdc2eefc50167062a5e92
DTSTAMP:20260422T100927Z
SUMMARY:[männliche D-Jugend Runde] CVJM Hagelloch  - CVJM Plochingen 
URL:https://www.eichenkreuzliga.de/handball/game/id/10116
DTSTART:20191123T134000
DTEND:20191123T144000
LOCATION:Stadionhalle\, 71696 Möglingen
END:VEVENT
BEGIN:VEVENT
UID:52a34602b799803a3f3b6595d56241fc
DTSTAMP:20260422T100927Z
SUMMARY:[männliche C-Jugend Runde] CVJM Möglingen  - CVJM HB Dußlingen-G
 omaringen 1
URL:https://www.eichenkreuzliga.de/handball/game/id/10376
DTSTART:20191123T150000
DTEND:20191123T160000
LOCATION:Stadionhalle\, 71696 Möglingen
END:VEVENT
BEGIN:VEVENT
UID:d7890aca75369cf57ccfd1200473de3c
DTSTAMP:20260422T100927Z
SUMMARY:[Männer Landesliga] CVJM Möglingen  - EK Höfingen 
URL:https://www.eichenkreuzliga.de/handball/game/id/10514
DTSTART:20191123T180000
DTEND:20191123T190000
LOCATION:Stadionhalle\, 71696 Möglingen
END:VEVENT
BEGIN:VEVENT
UID:960833bf2773faf5ec763f905bdaa547
DTSTAMP:20260422T100927Z
SUMMARY:[ ]   -  
URL:https://www.eichenkreuzliga.de/handball/game/id/10608
DTSTART:20191123T132000
DTEND:20191123T142000
LOCATION:Stadionhalle\, 71696 Möglingen
END:VEVENT
BEGIN:VEVENT
UID:f251c9a72623cedb1c4d923194f6aba0
DTSTAMP:20260422T100927Z
SUMMARY:[Männer LK 4] CVJM Möglingen 1b - CVJM HB Dußlingen-Gomaringen 2
URL:https://www.eichenkreuzliga.de/handball/game/id/11037
DTSTART:20191123T163000
DTEND:20191123T173000
LOCATION:Stadionhalle\, 71696 Möglingen
END:VEVENT
END:VCALENDAR
