BEGIN:VCALENDAR
PRODID:-//eluceo/ical//2.0/EN
VERSION:2.0
CALSCALE:GREGORIAN
BEGIN:VEVENT
UID:41250f1709b8b795ae115a62add569c4
DTSTAMP:20260422T100545Z
SUMMARY:[ ]   -  
URL:https://www.eichenkreuzliga.de/handball/game/id/9682
DTSTART:20191207T200000
DTEND:20191207T210000
LOCATION:Stadionhalle\, 71696 Möglingen
END:VEVENT
BEGIN:VEVENT
UID:9169b93aa92f8ef3adf1d60a085ee7d0
DTSTAMP:20260422T100545Z
SUMMARY:[Frauen Landesliga] CVJM Möglingen  - HSG Schönbuch 
URL:https://www.eichenkreuzliga.de/handball/game/id/9865
DTSTART:20191207T161500
DTEND:20191207T171500
LOCATION:Stadionhalle\, 71696 Möglingen
END:VEVENT
BEGIN:VEVENT
UID:df3396e9997f602c7a3a16ab369edd79
DTSTAMP:20260422T100545Z
SUMMARY:[männliche A-Jugend Runde] CVJM Möglingen  - CVJM Enzweihingen 
URL:https://www.eichenkreuzliga.de/handball/game/id/10724
DTSTART:20191207T174500
DTEND:20191207T184500
LOCATION:Stadionhalle\, 71696 Möglingen
END:VEVENT
END:VCALENDAR
