BEGIN:VCALENDAR
PRODID:-//eluceo/ical//2.0/EN
VERSION:2.0
CALSCALE:GREGORIAN
BEGIN:VEVENT
UID:086fad845ff18b464192f71a3542967a
DTSTAMP:20260422T083635Z
SUMMARY:[ ]   -  
URL:https://www.eichenkreuzliga.de/handball/game/id/9683
DTSTART:20200201T200000
DTEND:20200201T210000
LOCATION:Stadionhalle\, 71696 Möglingen
END:VEVENT
BEGIN:VEVENT
UID:0091ea84ae07483dbd22f5d20dd05f49
DTSTAMP:20260422T083635Z
SUMMARY:[Frauen Landesliga] CVJM Möglingen  - CVJM Kirchentellinsfurt 
URL:https://www.eichenkreuzliga.de/handball/game/id/9866
DTSTART:20200201T160000
DTEND:20200201T170000
LOCATION:Stadionhalle\, 71696 Möglingen
END:VEVENT
BEGIN:VEVENT
UID:bfed82e870972972fd0ff980790b464f
DTSTAMP:20260422T083635Z
SUMMARY:[männliche A-Jugend Runde] CVJM Möglingen  - CVJM Kirchentellinsf
 urt 
URL:https://www.eichenkreuzliga.de/handball/game/id/10725
DTSTART:20200201T143000
DTEND:20200201T153000
LOCATION:Stadionhalle\, 71696 Möglingen
END:VEVENT
BEGIN:VEVENT
UID:facb2f7f79cbdbf4109f6a13f92c4ad1
DTSTAMP:20260422T083635Z
SUMMARY:[Männer LK 4] CVJM Möglingen 1b - CVJM Enzweihingen 1b
URL:https://www.eichenkreuzliga.de/handball/game/id/11029
DTSTART:20200201T173000
DTEND:20200201T183000
LOCATION:Stadionhalle\, 71696 Möglingen
END:VEVENT
END:VCALENDAR
