BEGIN:VCALENDAR
PRODID:-//eluceo/ical//2.0/EN
VERSION:2.0
CALSCALE:GREGORIAN
BEGIN:VEVENT
UID:7c8ecec39a1f05477faec7bafd9fe10a
DTSTAMP:20260422T100550Z
SUMMARY:[ ]   -  
URL:https://www.eichenkreuzliga.de/handball/game/id/9685
DTSTART:20200307T200000
DTEND:20200307T210000
LOCATION:Stadionhalle\, 71696 Möglingen
END:VEVENT
BEGIN:VEVENT
UID:d089631fdcc716f91e5b69993367c1f8
DTSTAMP:20260422T100550Z
SUMMARY:[Frauen Landesliga] CVJM Möglingen  - CVJM HB Dußlingen-Gomaringe
 n 1
URL:https://www.eichenkreuzliga.de/handball/game/id/9867
DTSTART:20200307T160000
DTEND:20200307T170000
LOCATION:Stadionhalle\, 71696 Möglingen
END:VEVENT
BEGIN:VEVENT
UID:68d6340ef48343aaf67dbc1aab14331b
DTSTAMP:20260422T100550Z
SUMMARY:[männliche C-Jugend Runde] CVJM Möglingen  - EK Köngen 
URL:https://www.eichenkreuzliga.de/handball/game/id/10414
DTSTART:20200307T130000
DTEND:20200307T140000
LOCATION:Stadionhalle\, 71696 Möglingen
END:VEVENT
BEGIN:VEVENT
UID:7dce16d7adb7e6e3485c9addf3fb52c1
DTSTAMP:20260422T100550Z
SUMMARY:[Männer Landesliga] CVJM Möglingen  - CVJM SG Mössingen/Belsen 
URL:https://www.eichenkreuzliga.de/handball/game/id/10445
DTSTART:20200307T180000
DTEND:20200307T190000
LOCATION:Stadionhalle\, 71696 Möglingen
END:VEVENT
BEGIN:VEVENT
UID:0ba9f195014c9f4347d6a96d50297521
DTSTAMP:20260422T100550Z
SUMMARY:[weibliche A-Jugend Runde] CVJM Möglingen  - CVJM  Walddorfhäslac
 h 
URL:https://www.eichenkreuzliga.de/handball/game/id/10621
DTSTART:20200307T113000
DTEND:20200307T123000
LOCATION:Stadionhalle\, 71696 Möglingen
END:VEVENT
BEGIN:VEVENT
UID:4222b86267d94f02cfa476eaf4e1c7b2
DTSTAMP:20260422T100550Z
SUMMARY:[weibliche A-Jugend Runde] CVJM Möglingen  - CVJM HB Dußlingen-Go
 maringen 
URL:https://www.eichenkreuzliga.de/handball/game/id/10622
DTSTART:20200307T143000
DTEND:20200307T153000
LOCATION:Stadionhalle\, 71696 Möglingen
END:VEVENT
END:VCALENDAR
