BEGIN:VCALENDAR
PRODID:-//eluceo/ical//2.0/EN
VERSION:2.0
CALSCALE:GREGORIAN
BEGIN:VEVENT
UID:4ebc324eb035547a015b99fb02e9b4fb
DTSTAMP:20260422T101056Z
SUMMARY:[ ]   -  
URL:https://www.eichenkreuzliga.de/handball/game/id/9686
DTSTART:20200328T200000
DTEND:20200328T210000
LOCATION:Stadionhalle\, 71696 Möglingen
END:VEVENT
BEGIN:VEVENT
UID:a880c80c306489ca4088da21833494b4
DTSTAMP:20260422T101056Z
SUMMARY:[Frauen Landesliga] CVJM Möglingen  - EK Bernhausen 
URL:https://www.eichenkreuzliga.de/handball/game/id/9868
DTSTART:20200328T161500
DTEND:20200328T171500
LOCATION:Stadionhalle\, 71696 Möglingen
END:VEVENT
BEGIN:VEVENT
UID:700abedc953ded0f6586a2c659c0adcb
DTSTAMP:20260422T101056Z
SUMMARY:[männliche A-Jugend Finalspiele] CVJM Kirchentellinsfurt  - EK Tes
 tverein 
URL:https://www.eichenkreuzliga.de/handball/game/id/10780
DTSTART:20200328T130000
DTEND:20200328T140000
LOCATION:Stadionhalle\, 71696 Möglingen
END:VEVENT
BEGIN:VEVENT
UID:2571f67eb95e4b16f75d037498b42de8
DTSTAMP:20260422T101056Z
SUMMARY:[männliche A-Jugend Finalspiele] CVJM HB Dußlingen-Gomaringen  - 
 CVJM Möglingen 
URL:https://www.eichenkreuzliga.de/handball/game/id/10781
DTSTART:20200328T143000
DTEND:20200328T153000
LOCATION:Stadionhalle\, 71696 Möglingen
END:VEVENT
BEGIN:VEVENT
UID:295bcd1ea52381d87f7c01f54b372b38
DTSTAMP:20260422T101056Z
SUMMARY:[Männer LK 4] CVJM Möglingen 1b - CVJM Fellbach 
URL:https://www.eichenkreuzliga.de/handball/game/id/11034
DTSTART:20200328T180000
DTEND:20200328T190000
LOCATION:Stadionhalle\, 71696 Möglingen
END:VEVENT
BEGIN:VEVENT
UID:d25f9c4acd60447143dab62ec27be014
DTSTAMP:20260422T101056Z
SUMMARY:[ ]   -  
URL:https://www.eichenkreuzliga.de/handball/game/id/11056
DTSTART:20200328T154500
DTEND:20200328T164500
LOCATION:Stadionhalle\, 71696 Möglingen
END:VEVENT
END:VCALENDAR
