BEGIN:VCALENDAR
PRODID:-//eluceo/ical//2.0/EN
VERSION:2.0
CALSCALE:GREGORIAN
BEGIN:VEVENT
UID:c2761802f87dbb9e095a86a5a46eeb53
DTSTAMP:20260422T083630Z
SUMMARY:[männliche D-Jugend Runde] CVJM Enzweihingen  - EK Bernhausen 1
URL:https://www.eichenkreuzliga.de/handball/game/id/9927
DTSTART:20191020T130000
DTEND:20191020T140000
LOCATION:Schulsporthalle\, 71665 Enzweihingen
END:VEVENT
BEGIN:VEVENT
UID:3ac8d734fbf3ebccb285b123cbb0d9b4
DTSTAMP:20260422T083630Z
SUMMARY:[männliche D-Jugend Runde] CVJM Kirchentellinsfurt a.K. - CVJM Hag
 elloch 
URL:https://www.eichenkreuzliga.de/handball/game/id/9928
DTSTART:20191020T134000
DTEND:20191020T144000
LOCATION:Schulsporthalle\, 71665 Enzweihingen
END:VEVENT
BEGIN:VEVENT
UID:f639ecc1d5e572b3860004663f7b1cc6
DTSTAMP:20260422T083630Z
SUMMARY:[männliche D-Jugend Runde] CVJM Kirchentellinsfurt a.K. - CVJM Enz
 weihingen 
URL:https://www.eichenkreuzliga.de/handball/game/id/9929
DTSTART:20191020T152000
DTEND:20191020T162000
LOCATION:Schulsporthalle\, 71665 Enzweihingen
END:VEVENT
BEGIN:VEVENT
UID:3d3e31d836ece287ada41111d680f0b5
DTSTAMP:20260422T083630Z
SUMMARY:[männliche D-Jugend Runde] CVJM Hagelloch  - EK Bernhausen 1
URL:https://www.eichenkreuzliga.de/handball/game/id/9930
DTSTART:20191020T144000
DTEND:20191020T154000
LOCATION:Schulsporthalle\, 71665 Enzweihingen
END:VEVENT
BEGIN:VEVENT
UID:79298c9b5156f10f5d47ace57f1d2b68
DTSTAMP:20260422T083630Z
SUMMARY:[ ]   -  
URL:https://www.eichenkreuzliga.de/handball/game/id/10267
DTSTART:20191020T142000
DTEND:20191020T152000
LOCATION:Schulsporthalle\, 71665 Enzweihingen
END:VEVENT
BEGIN:VEVENT
UID:93cf2ddb0eddc722b953ac173b7d8615
DTSTAMP:20260422T083630Z
SUMMARY:[männliche C-Jugend Runde] CVJM Enzweihingen  - CVJM Hagelloch 
URL:https://www.eichenkreuzliga.de/handball/game/id/10369
DTSTART:20191020T161500
DTEND:20191020T171500
LOCATION:Schulsporthalle\, 71665 Enzweihingen
END:VEVENT
END:VCALENDAR
