BEGIN:VCALENDAR
PRODID:-//eluceo/ical//2.0/EN
VERSION:2.0
CALSCALE:GREGORIAN
BEGIN:VEVENT
UID:a4e1d1995198a343b0769f9c0062a3a1
DTSTAMP:20260422T092116Z
SUMMARY:[männliche E-Jugend Runde] CVJM Fellbach  - EK Köngen 
URL:https://www.eichenkreuzliga.de/handball/game/id/9979
DTSTART:20191110T130000
DTEND:20191110T140000
LOCATION:Zeppelinhalle\, 70734 Fellbach
END:VEVENT
BEGIN:VEVENT
UID:3c81c85e13d8cc59c99071dd06386c06
DTSTAMP:20260422T092116Z
SUMMARY:[männliche E-Jugend Runde] CVJM Hülben  - EK Köngen 
URL:https://www.eichenkreuzliga.de/handball/game/id/9980
DTSTART:20191110T141500
DTEND:20191110T151500
LOCATION:Zeppelinhalle\, 70734 Fellbach
END:VEVENT
BEGIN:VEVENT
UID:4ba937489137b43e431cb7afbe86cd81
DTSTAMP:20260422T092116Z
SUMMARY:[männliche E-Jugend Runde] CVJM Hülben  - CVJM Möglingen 
URL:https://www.eichenkreuzliga.de/handball/game/id/9981
DTSTART:20191110T133000
DTEND:20191110T143000
LOCATION:Zeppelinhalle\, 70734 Fellbach
END:VEVENT
BEGIN:VEVENT
UID:6f0c06391d4a0a2fef6dc89dcd056b7f
DTSTAMP:20260422T092116Z
SUMMARY:[männliche E-Jugend Runde] CVJM Fellbach  - CVJM Möglingen 
URL:https://www.eichenkreuzliga.de/handball/game/id/9982
DTSTART:20191110T144500
DTEND:20191110T154500
LOCATION:Zeppelinhalle\, 70734 Fellbach
END:VEVENT
BEGIN:VEVENT
UID:e1e0c5d19089f4576b47490ee317a06b
DTSTAMP:20260422T092116Z
SUMMARY:[ ]   -  
URL:https://www.eichenkreuzliga.de/handball/game/id/10235
DTSTART:20191110T140000
DTEND:20191110T150000
LOCATION:Zeppelinhalle\, 70734 Fellbach
END:VEVENT
BEGIN:VEVENT
UID:f0b1ad45b33f99b7a3ab8850c0459935
DTSTAMP:20260422T092116Z
SUMMARY:[männliche B-Jugend Runde] CVJM Fellbach  - CVJM HB Dußlingen-Gom
 aringen 
URL:https://www.eichenkreuzliga.de/handball/game/id/10867
DTSTART:20191110T153000
DTEND:20191110T163000
LOCATION:Zeppelinhalle\, 70734 Fellbach
END:VEVENT
BEGIN:VEVENT
UID:fa0bcf93a8d8f3d4cb13a5a1640814ac
DTSTAMP:20260422T092116Z
SUMMARY:[Männer LK 4] CVJM Fellbach  - CVJM SG Mössingen/Belsen 1c
URL:https://www.eichenkreuzliga.de/handball/game/id/11014
DTSTART:20191110T171500
DTEND:20191110T181500
LOCATION:Zeppelinhalle\, 70734 Fellbach
END:VEVENT
END:VCALENDAR
