BEGIN:VCALENDAR
PRODID:-//eluceo/ical//2.0/EN
VERSION:2.0
CALSCALE:GREGORIAN
BEGIN:VEVENT
UID:345065bcb30d9dcf7eb157a52415844f
DTSTAMP:20260422T140101Z
SUMMARY:[männliche D-Jugend Runde] CVJM Fellbach  - CVJM Kirchentellinsfur
 t a.K.
URL:https://www.eichenkreuzliga.de/handball/game/id/10187
DTSTART:20191123T130000
DTEND:20191123T140000
LOCATION:Zeppelinhalle\, 70734 Fellbach
END:VEVENT
BEGIN:VEVENT
UID:92895ab09e1943891262b08cdd1b84ae
DTSTAMP:20260422T140101Z
SUMMARY:[männliche D-Jugend Runde] CVJM Fellbach  - EK Bernhausen 1
URL:https://www.eichenkreuzliga.de/handball/game/id/10188
DTSTART:20191123T152000
DTEND:20191123T162000
LOCATION:Zeppelinhalle\, 70734 Fellbach
END:VEVENT
BEGIN:VEVENT
UID:02afe65718c0fc6e2d121737be863b13
DTSTAMP:20260422T140101Z
SUMMARY:[männliche D-Jugend Runde] CVJM Kirchentellinsfurt a.K. - EJW Mün
 chingen 
URL:https://www.eichenkreuzliga.de/handball/game/id/10189
DTSTART:20191123T144000
DTEND:20191123T154000
LOCATION:Zeppelinhalle\, 70734 Fellbach
END:VEVENT
BEGIN:VEVENT
UID:04b6299292ed3d086bc4bae3f65b0f10
DTSTAMP:20260422T140101Z
SUMMARY:[männliche D-Jugend Runde] EJW Münchingen  - EK Bernhausen 1
URL:https://www.eichenkreuzliga.de/handball/game/id/10190
DTSTART:20191123T134000
DTEND:20191123T144000
LOCATION:Zeppelinhalle\, 70734 Fellbach
END:VEVENT
BEGIN:VEVENT
UID:a617432336ad0f304b82b5c0d9075dd0
DTSTAMP:20260422T140101Z
SUMMARY:[ ]   -  
URL:https://www.eichenkreuzliga.de/handball/game/id/10270
DTSTART:20191123T142000
DTEND:20191123T152000
LOCATION:Zeppelinhalle\, 70734 Fellbach
END:VEVENT
BEGIN:VEVENT
UID:39cb51187522b5129d089e4d0e8525bd
DTSTAMP:20260422T140101Z
SUMMARY:[weibliche B-Jugend Runde] CVJM Fellbach  - CVJM HB Dußlingen-Goma
 ringen 
URL:https://www.eichenkreuzliga.de/handball/game/id/10671
DTSTART:20191123T161500
DTEND:20191123T171500
LOCATION:Zeppelinhalle\, 70734 Fellbach
END:VEVENT
END:VCALENDAR
