BEGIN:VCALENDAR
PRODID:-//eluceo/ical//2.0/EN
VERSION:2.0
CALSCALE:GREGORIAN
BEGIN:VEVENT
UID:342d5136c636697509459ecc88970c42
DTSTAMP:20260422T083654Z
SUMMARY:[männliche D-Jugend Runde] CVJM Kusterdingen e.V.  - CVJM HB Dußl
 ingen-Gomaringen 1
URL:https://www.eichenkreuzliga.de/handball/game/id/10107
DTSTART:20191123T130000
DTEND:20191123T140000
LOCATION:Härtensporthalle\, 72127 Kusterdingen
END:VEVENT
BEGIN:VEVENT
UID:72aeaf8832a44921fc72d8e072bddc22
DTSTAMP:20260422T083654Z
SUMMARY:[männliche D-Jugend Runde] CVJM Kusterdingen e.V.  - CVJM  Walddor
 fhäslach 
URL:https://www.eichenkreuzliga.de/handball/game/id/10108
DTSTART:20191123T152000
DTEND:20191123T162000
LOCATION:Härtensporthalle\, 72127 Kusterdingen
END:VEVENT
BEGIN:VEVENT
UID:7a43edf816d195cf885811325f7e0e25
DTSTAMP:20260422T083654Z
SUMMARY:[männliche D-Jugend Runde] CVJM  Walddorfhäslach  - CVJM HB Dußl
 ingen-Gomaringen 1
URL:https://www.eichenkreuzliga.de/handball/game/id/10109
DTSTART:20191123T160000
DTEND:20191123T170000
LOCATION:Härtensporthalle\, 72127 Kusterdingen
END:VEVENT
BEGIN:VEVENT
UID:b3fbb12759c4cde5ffdef8f415f410e4
DTSTAMP:20260422T083654Z
SUMMARY:[männliche D-Jugend Runde] CVJM HB Dußlingen-Gomaringen 1 - EK K
 öngen 
URL:https://www.eichenkreuzliga.de/handball/game/id/10110
DTSTART:20191123T144000
DTEND:20191123T154000
LOCATION:Härtensporthalle\, 72127 Kusterdingen
END:VEVENT
BEGIN:VEVENT
UID:adc41627ba6e9e256a5f926c41dbed35
DTSTAMP:20260422T083654Z
SUMMARY:[männliche D-Jugend Runde] CVJM Kusterdingen e.V.  - EK Köngen 
URL:https://www.eichenkreuzliga.de/handball/game/id/10111
DTSTART:20191123T164000
DTEND:20191123T174000
LOCATION:Härtensporthalle\, 72127 Kusterdingen
END:VEVENT
BEGIN:VEVENT
UID:fdaa750e4b05c1c819c1ee5cb11782f0
DTSTAMP:20260422T083654Z
SUMMARY:[männliche D-Jugend Runde] CVJM  Walddorfhäslach  - EK Köngen 
URL:https://www.eichenkreuzliga.de/handball/game/id/10112
DTSTART:20191123T134000
DTEND:20191123T144000
LOCATION:Härtensporthalle\, 72127 Kusterdingen
END:VEVENT
BEGIN:VEVENT
UID:18e564b1045002e6a036ebc4c67fc241
DTSTAMP:20260422T083654Z
SUMMARY:[ ]   -  
URL:https://www.eichenkreuzliga.de/handball/game/id/10271
DTSTART:20191123T142000
DTEND:20191123T152000
LOCATION:Härtensporthalle\, 72127 Kusterdingen
END:VEVENT
END:VCALENDAR
