BEGIN:VCALENDAR
PRODID:-//eluceo/ical//2.0/EN
VERSION:2.0
CALSCALE:GREGORIAN
BEGIN:VEVENT
UID:1dce9c1155746e070c96083acbc38fff
DTSTAMP:20260422T140214Z
SUMMARY:[männliche E-Jugend Runde] EK Köngen  - CVJM Kusterdingen e.V. 
URL:https://www.eichenkreuzliga.de/handball/game/id/9999
DTSTART:20191130T124500
DTEND:20191130T134500
LOCATION:Burgschulhalle\, 73257 Köngen
END:VEVENT
BEGIN:VEVENT
UID:b31add35d3080597359d3f6cee74559f
DTSTAMP:20260422T140214Z
SUMMARY:[männliche E-Jugend Runde] EK Köngen  - CVJM Möglingen 
URL:https://www.eichenkreuzliga.de/handball/game/id/10000
DTSTART:20191130T150000
DTEND:20191130T160000
LOCATION:Burgschulhalle\, 73257 Köngen
END:VEVENT
BEGIN:VEVENT
UID:6cc4765b613b4860849ee48cc4004864
DTSTAMP:20260422T140214Z
SUMMARY:[männliche E-Jugend Runde] CVJM Kusterdingen e.V.  - CVJM Mögling
 en 
URL:https://www.eichenkreuzliga.de/handball/game/id/10001
DTSTART:20191130T134500
DTEND:20191130T144500
LOCATION:Burgschulhalle\, 73257 Köngen
END:VEVENT
BEGIN:VEVENT
UID:e101a577efa382397037590dfb500691
DTSTAMP:20260422T140214Z
SUMMARY:[männliche E-Jugend Runde] CVJM  Walddorfhäslach  - CVJM Ploching
 en a.K.
URL:https://www.eichenkreuzliga.de/handball/game/id/10002
DTSTART:20191130T131500
DTEND:20191130T141500
LOCATION:Burgschulhalle\, 73257 Köngen
END:VEVENT
BEGIN:VEVENT
UID:2ab9e27b5511f11c51ab0b134e38c049
DTSTAMP:20260422T140214Z
SUMMARY:[männliche E-Jugend Runde] CVJM  Walddorfhäslach  - EK Bernhausen
  1
URL:https://www.eichenkreuzliga.de/handball/game/id/10003
DTSTART:20191130T153000
DTEND:20191130T163000
LOCATION:Burgschulhalle\, 73257 Köngen
END:VEVENT
BEGIN:VEVENT
UID:03f9e0769c61159e499a3a2fa1632988
DTSTAMP:20260422T140214Z
SUMMARY:[männliche E-Jugend Runde] CVJM Plochingen a.K. - EK Bernhausen 1
URL:https://www.eichenkreuzliga.de/handball/game/id/10004
DTSTART:20191130T143000
DTEND:20191130T153000
LOCATION:Burgschulhalle\, 73257 Köngen
END:VEVENT
BEGIN:VEVENT
UID:28baee3a410816d7cdc302c16266a190
DTSTAMP:20260422T140214Z
SUMMARY:[ ]   -  
URL:https://www.eichenkreuzliga.de/handball/game/id/10240
DTSTART:20191130T141500
DTEND:20191130T151500
LOCATION:Burgschulhalle\, 73257 Köngen
END:VEVENT
BEGIN:VEVENT
UID:c1a1fecf62bb198f65b371b1d24eb0fc
DTSTAMP:20260422T140214Z
SUMMARY:[männliche C-Jugend Runde] EK Köngen  - CVJM Untertürkheim 
URL:https://www.eichenkreuzliga.de/handball/game/id/10412
DTSTART:20191130T161500
DTEND:20191130T171500
LOCATION:Burgschulhalle\, 73257 Köngen
END:VEVENT
BEGIN:VEVENT
UID:03e7e32504ab158f993c2bf8084d0ec2
DTSTAMP:20260422T140214Z
SUMMARY:[Männer Landesliga] EK Köngen  - CVJM HB Dußlingen-Gomaringen 
URL:https://www.eichenkreuzliga.de/handball/game/id/10519
DTSTART:20191130T194500
DTEND:20191130T204500
LOCATION:Burgschulhalle\, 73257 Köngen
END:VEVENT
BEGIN:VEVENT
UID:3d52b82a3417188411d8b05925ae501a
DTSTAMP:20260422T140214Z
SUMMARY:[männliche A-Jugend Runde] EK Köngen  - CVJM Möglingen 
URL:https://www.eichenkreuzliga.de/handball/game/id/10753
DTSTART:20191130T180000
DTEND:20191130T190000
LOCATION:Burgschulhalle\, 73257 Köngen
END:VEVENT
END:VCALENDAR
