BEGIN:VCALENDAR
PRODID:-//eluceo/ical//2.0/EN
VERSION:2.0
CALSCALE:GREGORIAN
BEGIN:VEVENT
UID:8eaa2403fd01c11009fe5746dee4b813
DTSTAMP:20260422T125835Z
SUMMARY:[männliche E-Jugend Runde] CVJM Kusterdingen e.V.  - CVJM HB Dußl
 ingen-Gomaringen 2 A.K.
URL:https://www.eichenkreuzliga.de/handball/game/id/10031
DTSTART:20191207T130000
DTEND:20191207T140000
LOCATION:Härtensporthalle\, 72127 Kusterdingen
END:VEVENT
BEGIN:VEVENT
UID:47c174457a20a6b6bf057322a3636b5c
DTSTAMP:20260422T125835Z
SUMMARY:[männliche E-Jugend Runde] CVJM Kusterdingen e.V.  - CVJM HB Dußl
 ingen-Gomaringen 1
URL:https://www.eichenkreuzliga.de/handball/game/id/10032
DTSTART:20191207T144500
DTEND:20191207T154500
LOCATION:Härtensporthalle\, 72127 Kusterdingen
END:VEVENT
BEGIN:VEVENT
UID:6e76e730ed64a13973b902059da37c41
DTSTAMP:20260422T125835Z
SUMMARY:[männliche E-Jugend Runde] CVJM Fellbach  - CVJM HB Dußlingen-Gom
 aringen 1
URL:https://www.eichenkreuzliga.de/handball/game/id/10033
DTSTART:20191207T133000
DTEND:20191207T143000
LOCATION:Härtensporthalle\, 72127 Kusterdingen
END:VEVENT
BEGIN:VEVENT
UID:8b75e4e5f7793b12496bdaf033df1362
DTSTAMP:20260422T125835Z
SUMMARY:[männliche E-Jugend Runde] CVJM Fellbach  - CVJM HB Dußlingen-Gom
 aringen 2 A.K.
URL:https://www.eichenkreuzliga.de/handball/game/id/10034
DTSTART:20191207T141500
DTEND:20191207T151500
LOCATION:Härtensporthalle\, 72127 Kusterdingen
END:VEVENT
BEGIN:VEVENT
UID:18caeb05f8702e4c4e2e78cc7cfdcabf
DTSTAMP:20260422T125835Z
SUMMARY:[ ]   -  
URL:https://www.eichenkreuzliga.de/handball/game/id/10242
DTSTART:20191207T140000
DTEND:20191207T150000
LOCATION:Härtensporthalle\, 72127 Kusterdingen
END:VEVENT
END:VCALENDAR
