BEGIN:VCALENDAR
PRODID:-//eluceo/ical//2.0/EN
VERSION:2.0
CALSCALE:GREGORIAN
BEGIN:VEVENT
UID:896d4d9f03667562b2672e2e71b9a9f8
DTSTAMP:20260422T083659Z
SUMMARY:[weibliche B-Jugend Runde] CVJM Fellbach  - CVJM Hagelloch 
URL:https://www.eichenkreuzliga.de/handball/game/id/10672
DTSTART:20191208T143000
DTEND:20191208T153000
LOCATION:Zeppelinhalle\, 70734 Fellbach
END:VEVENT
END:VCALENDAR
