BEGIN:VCALENDAR
PRODID:-//eluceo/ical//2.0/EN
VERSION:2.0
CALSCALE:GREGORIAN
BEGIN:VEVENT
UID:d822eba046f044a4e912180f7374846c
DTSTAMP:20260422T113602Z
SUMMARY:[männliche E-Jugend Runde] CVJM Enzweihingen  - CVJM Fellbach 
URL:https://www.eichenkreuzliga.de/handball/game/id/10055
DTSTART:20191214T130000
DTEND:20191214T140000
LOCATION:Härtensporthalle\, 72127 Kusterdingen
END:VEVENT
BEGIN:VEVENT
UID:19233a6a15ea514236c0d189c3626850
DTSTAMP:20260422T113602Z
SUMMARY:[männliche E-Jugend Runde] CVJM Kusterdingen e.V.  - CVJM Fellbach
  
URL:https://www.eichenkreuzliga.de/handball/game/id/10056
DTSTART:20191214T134500
DTEND:20191214T144500
LOCATION:Härtensporthalle\, 72127 Kusterdingen
END:VEVENT
BEGIN:VEVENT
UID:5f80a011004b7eddfcd94142ca788e6c
DTSTAMP:20260422T113602Z
SUMMARY:[männliche E-Jugend Runde] CVJM Kusterdingen e.V.  - CVJM Enzweihi
 ngen 
URL:https://www.eichenkreuzliga.de/handball/game/id/10057
DTSTART:20191214T143000
DTEND:20191214T153000
LOCATION:Härtensporthalle\, 72127 Kusterdingen
END:VEVENT
BEGIN:VEVENT
UID:a0e1a6451f1fbf28fc89bc7bb8ab4f61
DTSTAMP:20260422T113602Z
SUMMARY:[ ]   -  
URL:https://www.eichenkreuzliga.de/handball/game/id/10243
DTSTART:20191214T141500
DTEND:20191214T151500
LOCATION:Härtensporthalle\, 72127 Kusterdingen
END:VEVENT
END:VCALENDAR
