BEGIN:VCALENDAR
PRODID:-//eluceo/ical//2.0/EN
VERSION:2.0
CALSCALE:GREGORIAN
BEGIN:VEVENT
UID:c47384384a9160cae9ca9ebe80733f20
DTSTAMP:20260422T044010Z
SUMMARY:[Frauen Landesliga] CVJM Kirchentellinsfurt  - CVJM Möglingen 
URL:https://www.eichenkreuzliga.de/handball/game/id/9860
DTSTART:20200111T170000
DTEND:20200111T180000
LOCATION:Sporthalle\, 72138 Kirchentellinsfurt
END:VEVENT
BEGIN:VEVENT
UID:03ed09a27bf530ae8673adf0d291a835
DTSTAMP:20260422T044010Z
SUMMARY:[männliche E-Jugend Runde] CVJM Kirchentellinsfurt  - CVJM Möglin
 gen 
URL:https://www.eichenkreuzliga.de/handball/game/id/10021
DTSTART:20200111T144500
DTEND:20200111T154500
LOCATION:Sporthalle\, 72138 Kirchentellinsfurt
END:VEVENT
BEGIN:VEVENT
UID:afd3cba09cde94260ab649cd916e4a15
DTSTAMP:20260422T044010Z
SUMMARY:[männliche E-Jugend Runde] CVJM Kirchentellinsfurt  - EK Köngen 
URL:https://www.eichenkreuzliga.de/handball/game/id/10022
DTSTART:20200111T130000
DTEND:20200111T140000
LOCATION:Sporthalle\, 72138 Kirchentellinsfurt
END:VEVENT
BEGIN:VEVENT
UID:a05214e398e33d35a616705361a5e357
DTSTAMP:20260422T044010Z
SUMMARY:[männliche E-Jugend Runde] CVJM Untertürkheim  - EK Köngen 
URL:https://www.eichenkreuzliga.de/handball/game/id/10024
DTSTART:20200111T141500
DTEND:20200111T151500
LOCATION:Sporthalle\, 72138 Kirchentellinsfurt
END:VEVENT
BEGIN:VEVENT
UID:e61949a34c2a3e1da6a61f5c9a28f34c
DTSTAMP:20260422T044010Z
SUMMARY:[männliche E-Jugend Runde] CVJM Möglingen  - CVJM Untertürkheim 
URL:https://www.eichenkreuzliga.de/handball/game/id/10025
DTSTART:20200111T133000
DTEND:20200111T143000
LOCATION:Sporthalle\, 72138 Kirchentellinsfurt
END:VEVENT
BEGIN:VEVENT
UID:e20da9c6aca6e85b26b6231cb02a9fe9
DTSTAMP:20260422T044010Z
SUMMARY:[ ]   -  
URL:https://www.eichenkreuzliga.de/handball/game/id/10245
DTSTART:20200111T140000
DTEND:20200111T150000
LOCATION:Sporthalle\, 72138 Kirchentellinsfurt
END:VEVENT
BEGIN:VEVENT
UID:536cdd6ff78c79e2d3993705724edfef
DTSTAMP:20260422T044010Z
SUMMARY:[Männer LK 2] CVJM Kirchentellinsfurt  - CVJM Hagelloch - Kusterdi
 ngen 1
URL:https://www.eichenkreuzliga.de/handball/game/id/10575
DTSTART:20200111T200000
DTEND:20200111T210000
LOCATION:Sporthalle\, 72138 Kirchentellinsfurt
END:VEVENT
BEGIN:VEVENT
UID:d50e7e6d9933318faa1a779f5f50c12a
DTSTAMP:20260422T044010Z
SUMMARY:[männliche A-Jugend Runde] CVJM Kirchentellinsfurt  - EK Köngen 
URL:https://www.eichenkreuzliga.de/handball/game/id/10770
DTSTART:20200111T153000
DTEND:20200111T163000
LOCATION:Sporthalle\, 72138 Kirchentellinsfurt
END:VEVENT
BEGIN:VEVENT
UID:209a4c2119274f43fe3cb614872054cf
DTSTAMP:20260422T044010Z
SUMMARY:[Männer LK 3] CVJM Kirchentellinsfurt 1b - CVJM Wildberg 
URL:https://www.eichenkreuzliga.de/handball/game/id/10938
DTSTART:20200111T183000
DTEND:20200111T193000
LOCATION:Sporthalle\, 72138 Kirchentellinsfurt
END:VEVENT
END:VCALENDAR
