BEGIN:VCALENDAR
PRODID:-//eluceo/ical//2.0/EN
VERSION:2.0
CALSCALE:GREGORIAN
BEGIN:VEVENT
UID:fcad622ee8ff2710865765857f59a7d6
DTSTAMP:20260422T044627Z
SUMMARY:[männliche C-Jugend Runde] CVJM Hagelloch  - CVJM  Walddorfhäslac
 h 
URL:https://www.eichenkreuzliga.de/handball/game/id/10411
DTSTART:20200125T130000
DTEND:20200125T140000
LOCATION:Kreissporthalle Tübingen\, 72072 Tübingen
END:VEVENT
BEGIN:VEVENT
UID:17466d3c4838c032f5c8389f6f648c24
DTSTAMP:20260422T044627Z
SUMMARY:[männliche B-Jugend Runde] CVJM Hagelloch SG Hagelloch/Kusterdinge
 n - CVJM Fellbach 
URL:https://www.eichenkreuzliga.de/handball/game/id/10895
DTSTART:20200125T153000
DTEND:20200125T163000
LOCATION:Kreissporthalle Tübingen\, 72072 Tübingen
END:VEVENT
BEGIN:VEVENT
UID:27da46baf641517e0116463aa61500fc
DTSTAMP:20260422T044627Z
SUMMARY:[Männer LK 3] CVJM Hagelloch 2 - CVJM Wildberg 
URL:https://www.eichenkreuzliga.de/handball/game/id/10944
DTSTART:20200125T164500
DTEND:20200125T174500
LOCATION:Kreissporthalle Tübingen\, 72072 Tübingen
END:VEVENT
END:VCALENDAR
