BEGIN:VCALENDAR
PRODID:-//eluceo/ical//2.0/EN
VERSION:2.0
CALSCALE:GREGORIAN
BEGIN:VEVENT
UID:c8535c3a44b46f45c56397def27af8de
DTSTAMP:20260422T084444Z
SUMMARY:[Männer Landesliga] EK Köngen  - CVJM SG Mössingen/Belsen 
URL:https://www.eichenkreuzliga.de/handball/game/id/10433
DTSTART:20200202T180000
DTEND:20200202T190000
LOCATION:Burgschulhalle\, 73257 Köngen
END:VEVENT
BEGIN:VEVENT
UID:7fa7ba1becbca7ef6d7d828a9dd8cc2b
DTSTAMP:20260422T084444Z
SUMMARY:[Männer LK 2] EK Köngen 1b - CVJM Flacht 
URL:https://www.eichenkreuzliga.de/handball/game/id/10585
DTSTART:20200202T163000
DTEND:20200202T173000
LOCATION:Burgschulhalle\, 73257 Köngen
END:VEVENT
BEGIN:VEVENT
UID:74309e9a47fb5918f7258a1eac24ab9e
DTSTAMP:20260422T084444Z
SUMMARY:[männliche A-Jugend Runde] EK Köngen  - CVJM HB Dußlingen-Gomari
 ngen 
URL:https://www.eichenkreuzliga.de/handball/game/id/10760
DTSTART:20200202T150000
DTEND:20200202T160000
LOCATION:Burgschulhalle\, 73257 Köngen
END:VEVENT
END:VCALENDAR
