BEGIN:VCALENDAR
PRODID:-//eluceo/ical//2.0/EN
VERSION:2.0
CALSCALE:GREGORIAN
BEGIN:VEVENT
UID:c85008ffe0aa0087d9067b2413bf5872
DTSTAMP:20260422T044046Z
SUMMARY:[Männer LK 2] CVJM Hagelloch - Kusterdingen 1 - CVJM Hülben 
URL:https://www.eichenkreuzliga.de/handball/game/id/10571
DTSTART:20200208T180000
DTEND:20200208T190000
LOCATION:Kreissporthalle Tübingen\, 72072 Tübingen
END:VEVENT
BEGIN:VEVENT
UID:49b64253e3550b13add5c65279150607
DTSTAMP:20260422T044046Z
SUMMARY:[weibliche B-Jugend Runde] CVJM Hagelloch  - CVJM Hülben 
URL:https://www.eichenkreuzliga.de/handball/game/id/10646
DTSTART:20200208T131500
DTEND:20200208T141500
LOCATION:Kreissporthalle Tübingen\, 72072 Tübingen
END:VEVENT
BEGIN:VEVENT
UID:96caef693f1fb9096acae96ea175323a
DTSTAMP:20260422T044046Z
SUMMARY:[männliche B-Jugend Runde] CVJM Hagelloch SG Hagelloch/Kusterdinge
 n - EJW Münchingen 
URL:https://www.eichenkreuzliga.de/handball/game/id/10889
DTSTART:20200208T144500
DTEND:20200208T154500
LOCATION:Kreissporthalle Tübingen\, 72072 Tübingen
END:VEVENT
BEGIN:VEVENT
UID:2056905b59dc0637db2cb6e7349a4e4b
DTSTAMP:20260422T044046Z
SUMMARY:[Männer LK 3] CVJM Hagelloch 2 - CVJM Enzweihingen 
URL:https://www.eichenkreuzliga.de/handball/game/id/10950
DTSTART:20200208T163000
DTEND:20200208T173000
LOCATION:Kreissporthalle Tübingen\, 72072 Tübingen
END:VEVENT
END:VCALENDAR
