BEGIN:VCALENDAR
PRODID:-//eluceo/ical//2.0/EN
VERSION:2.0
CALSCALE:GREGORIAN
BEGIN:VEVENT
UID:d0e020b1ba566aa958ce89ca4d646832
DTSTAMP:20260422T092121Z
SUMMARY:[männliche E-Jugend Runde] CVJM Enzweihingen  - CVJM Hülben 
URL:https://www.eichenkreuzliga.de/handball/game/id/10082
DTSTART:20200208T141500
DTEND:20200208T151500
LOCATION:Lindenschul-Sporthalle Untertürkheim\, 70327 Untertürkheim
END:VEVENT
BEGIN:VEVENT
UID:743043381656ea7e62f8fd9ae0209c89
DTSTAMP:20260422T092121Z
SUMMARY:[männliche E-Jugend Runde] CVJM Untertürkheim  - CVJM Enzweihinge
 n 
URL:https://www.eichenkreuzliga.de/handball/game/id/10083
DTSTART:20200208T130000
DTEND:20200208T140000
LOCATION:Lindenschul-Sporthalle Untertürkheim\, 70327 Untertürkheim
END:VEVENT
BEGIN:VEVENT
UID:c65843530299e4db28a8ae48b9438bfa
DTSTAMP:20260422T092121Z
SUMMARY:[männliche E-Jugend Runde] CVJM Hülben  - EJW Münchingen 
URL:https://www.eichenkreuzliga.de/handball/game/id/10084
DTSTART:20200208T133000
DTEND:20200208T143000
LOCATION:Lindenschul-Sporthalle Untertürkheim\, 70327 Untertürkheim
END:VEVENT
BEGIN:VEVENT
UID:69e9c87f78bf9ec9f99ea464d5e2eb6f
DTSTAMP:20260422T092121Z
SUMMARY:[männliche E-Jugend Runde] CVJM Untertürkheim  - EJW Münchingen 
URL:https://www.eichenkreuzliga.de/handball/game/id/10085
DTSTART:20200208T144500
DTEND:20200208T154500
LOCATION:Lindenschul-Sporthalle Untertürkheim\, 70327 Untertürkheim
END:VEVENT
BEGIN:VEVENT
UID:08bb979c6ad73fb0fd9577c80b3cb757
DTSTAMP:20260422T092121Z
SUMMARY:[ ]   -  
URL:https://www.eichenkreuzliga.de/handball/game/id/10257
DTSTART:20200208T140000
DTEND:20200208T150000
LOCATION:Lindenschul-Sporthalle Untertürkheim\, 70327 Untertürkheim
END:VEVENT
END:VCALENDAR
