BEGIN:VCALENDAR
PRODID:-//eluceo/ical//2.0/EN
VERSION:2.0
CALSCALE:GREGORIAN
BEGIN:VEVENT
UID:55db31d385018ffa20da2964fdf83e83
DTSTAMP:20260422T044045Z
SUMMARY:[Männer Landesliga] EK Köngen  - EK Höfingen 
URL:https://www.eichenkreuzliga.de/handball/game/id/10444
DTSTART:20200215T193000
DTEND:20200215T203000
LOCATION:Burgschulhalle\, 73257 Köngen
END:VEVENT
BEGIN:VEVENT
UID:c54642cd76fe05727a6767d30e5f1319
DTSTAMP:20260422T044045Z
SUMMARY:[Männer LK 2] EK Köngen 1b - CVJM Hagelloch - Kusterdingen 1
URL:https://www.eichenkreuzliga.de/handball/game/id/10591
DTSTART:20200215T180000
DTEND:20200215T190000
LOCATION:Burgschulhalle\, 73257 Köngen
END:VEVENT
BEGIN:VEVENT
UID:d2a0e06791bb1dbc703349cb74ba0f05
DTSTAMP:20260422T044045Z
SUMMARY:[Männer LK 3] EK Köngen 1c - CVJM Hagelloch 2
URL:https://www.eichenkreuzliga.de/handball/game/id/10963
DTSTART:20200215T163000
DTEND:20200215T173000
LOCATION:Burgschulhalle\, 73257 Köngen
END:VEVENT
END:VCALENDAR
