BEGIN:VCALENDAR
PRODID:-//eluceo/ical//2.0/EN
VERSION:2.0
CALSCALE:GREGORIAN
BEGIN:VEVENT
UID:4ff7855edaba4c047b292d5eb82cdc29
DTSTAMP:20260422T092034Z
SUMMARY:[männliche E-Jugend Runde] CVJM SG Mössingen/Belsen  - CVJM Hülb
 en 
URL:https://www.eichenkreuzliga.de/handball/game/id/10062
DTSTART:20200307T130000
DTEND:20200307T140000
LOCATION:Jahnhalle 2\, 72116 Mössingen
END:VEVENT
BEGIN:VEVENT
UID:24df5089a22f8b2d1f6d7e3c7156a31a
DTSTAMP:20260422T092034Z
SUMMARY:[männliche E-Jugend Runde] CVJM SG Mössingen/Belsen  - CVJM Mögl
 ingen 
URL:https://www.eichenkreuzliga.de/handball/game/id/10063
DTSTART:20200307T144500
DTEND:20200307T154500
LOCATION:Jahnhalle 2\, 72116 Mössingen
END:VEVENT
BEGIN:VEVENT
UID:73622d88104ebe3a353259cc83fa58b6
DTSTAMP:20260422T092034Z
SUMMARY:[männliche E-Jugend Runde] CVJM  Walddorfhäslach  - CVJM Hülben 
URL:https://www.eichenkreuzliga.de/handball/game/id/10064
DTSTART:20200307T141500
DTEND:20200307T151500
LOCATION:Jahnhalle 2\, 72116 Mössingen
END:VEVENT
BEGIN:VEVENT
UID:bd5b3f1e5574be2f18c627e35e96c24b
DTSTAMP:20260422T092034Z
SUMMARY:[männliche E-Jugend Runde] CVJM  Walddorfhäslach  - CVJM Mögling
 en 
URL:https://www.eichenkreuzliga.de/handball/game/id/10065
DTSTART:20200307T133000
DTEND:20200307T143000
LOCATION:Jahnhalle 2\, 72116 Mössingen
END:VEVENT
BEGIN:VEVENT
UID:20b7acfff498191b91e70df10f0c5903
DTSTAMP:20260422T092034Z
SUMMARY:[ ]   -  
URL:https://www.eichenkreuzliga.de/handball/game/id/10264
DTSTART:20200307T140000
DTEND:20200307T150000
LOCATION:Jahnhalle 2\, 72116 Mössingen
END:VEVENT
BEGIN:VEVENT
UID:36294da289d90d3fddbdc9f3f05e37c0
DTSTAMP:20260422T092034Z
SUMMARY:[männliche A-Jugend Runde] CVJM SG Mössingen/Belsen  - CVJM Mögl
 ingen 
URL:https://www.eichenkreuzliga.de/handball/game/id/11049
DTSTART:20200307T153000
DTEND:20200307T163000
LOCATION:Jahnhalle 2\, 72116 Mössingen
END:VEVENT
END:VCALENDAR
