BEGIN:VCALENDAR
PRODID:-//eluceo/ical//2.0/EN
VERSION:2.0
CALSCALE:GREGORIAN
BEGIN:VEVENT
UID:b5a487d28a5331be1730c973f63d634a
DTSTAMP:20260422T101154Z
SUMMARY:[männliche C-Jugend Runde] CVJM Hagelloch  - CVJM SG Mössingen/Be
 lsen 
URL:https://www.eichenkreuzliga.de/handball/game/id/10405
DTSTART:20200307T150000
DTEND:20200307T160000
LOCATION:Sporthalle Waldhäuser-Ost\, 72076 Tübingen
END:VEVENT
BEGIN:VEVENT
UID:bad8aa4f1d47d2246613f8b75e87eb14
DTSTAMP:20260422T101154Z
SUMMARY:[Männer LK 2] CVJM Hagelloch - Kusterdingen 1 - EK Bernhausen 
URL:https://www.eichenkreuzliga.de/handball/game/id/10581
DTSTART:20200307T170000
DTEND:20200307T180000
LOCATION:Sporthalle Waldhäuser-Ost\, 72076 Tübingen
END:VEVENT
BEGIN:VEVENT
UID:8a404bae60109a25e2c621712431e9a0
DTSTAMP:20260422T101154Z
SUMMARY:[weibliche B-Jugend Runde] CVJM Hagelloch  - CVJM SG Mössingen/Bel
 sen 
URL:https://www.eichenkreuzliga.de/handball/game/id/10648
DTSTART:20200307T130000
DTEND:20200307T140000
LOCATION:Sporthalle Waldhäuser-Ost\, 72076 Tübingen
END:VEVENT
END:VCALENDAR
